BEGIN:VCALENDAR
VERSION:2.0
CREATED:20260413T205801Z
PRODID:-//Orion Properties Inc./Equisolve Calendar v1.0//EN
METHOD:PUBLISH
BEGIN:VEVENT
UID:3725188455ddaf86de6d1b525e08aff3
DTSTAMP:20260420T032119Z
DTSTART:20260508T140000Z
DTEND:20260508T150000Z
SUMMARY:First Quarter 2026 Earnings Conference Call
DESCRIPTION:First Quarter 2026 Earnings Conference Call
Date: May 8\, 2026 10:00 am EDT
Webcast: https://viavid.webcasts.com/starthere.jsp?ei=1755803&tp_key=58e151a512
END:VEVENT
END:VCALENDAR
